BEGIN:VCALENDAR
VERSION:2.0
PRODID:-//smile. Festival - ECPv6.15.20//NONSGML v1.0//EN
CALSCALE:GREGORIAN
METHOD:PUBLISH
X-WR-CALNAME:smile. Festival
X-ORIGINAL-URL:https://smilefestival.de
X-WR-CALDESC:Veranstaltungen für smile. Festival
REFRESH-INTERVAL;VALUE=DURATION:PT1H
X-Robots-Tag:noindex
X-PUBLISHED-TTL:PT1H
BEGIN:VTIMEZONE
TZID:UTC
BEGIN:STANDARD
TZOFFSETFROM:+0000
TZOFFSETTO:+0000
TZNAME:UTC
DTSTART:20250101T000000
END:STANDARD
END:VTIMEZONE
BEGIN:VEVENT
DTSTART;TZID=UTC:20260704T140000
DTEND;TZID=UTC:20260704T220000
DTSTAMP:20260425T204757
CREATED:20260312T033158Z
LAST-MODIFIED:20260312T061306Z
UID:12453-1783173600-1783202400@smilefestival.de
SUMMARY:smile. Stage Takeover @KuddelMuddel Festival
DESCRIPTION:Wir übernehmen mit unserem Sound\, den happy Vibes und dem Gefühl bei smile. zu sein\, die Bühne auf dem Kuddelmuddel Festival in der Kommune2010 in Offenbach. Freut euch auf einen musikalisch roten Faden\, von treibenden Bässen bis hin zu euphorischem House. \n\n\n\n\n\n\n\n\nDas Kuddelmuddel Festival zeichnet sich nicht nur durch sein vielseitiges Programm mit DJs\, Akrobatik\, Spielwiese und vier handgefertigten Bühnen aus. Es bringt auch Kreativität\, Kostüme und gemeinsames Feiern zusammen und verbindet dabei zahlreiche Kollektive aus Frankfurt und der Region zu einem besonderen Open-Air-Erlebnis. \nBei gutem Wetter\, guter Stimmung und guter Musik findet das Kuddelmuddel Open Air einmal im Jahr statt und lädt dazu ein\, gemeinsam einen besonderen Tag unter freiem Himmel zu erleben. \n\n\n\n\n\n\n\nTickets gibt’s direkt bei KuddelMuddel auf der Website: hier klicken
URL:https://smilefestival.de/events-smile-frankfurt/smile-stage-takeover-kuddelmuddel-festival
LOCATION:KuddelMuddel Festival\, Sprendlinger Landstraße 181D\, Offenbach am Main\, Hessen\, 63069\, Germany
ATTACH;FMTTYPE=image/jpeg:https://smilefestival.de/wp-content/uploads/2026/02/smile.-Festival-beim-Kuddelmuddel-Festival-in-Offenbach.jpg
END:VEVENT
END:VCALENDAR